BEGIN:VCALENDAR
VERSION:2.0
PRODID:-//Harrison Park - ECPv6.15.20//NONSGML v1.0//EN
CALSCALE:GREGORIAN
METHOD:PUBLISH
X-ORIGINAL-URL:https://www.harrisonpark.org
X-WR-CALDESC:Events for Harrison Park
REFRESH-INTERVAL;VALUE=DURATION:PT1H
X-Robots-Tag:noindex
X-PUBLISHED-TTL:PT1H
BEGIN:VTIMEZONE
TZID:America/Chicago
BEGIN:DAYLIGHT
TZOFFSETFROM:-0600
TZOFFSETTO:-0500
TZNAME:CDT
DTSTART:20140309T080000
END:DAYLIGHT
BEGIN:STANDARD
TZOFFSETFROM:-0500
TZOFFSETTO:-0600
TZNAME:CST
DTSTART:20141102T070000
END:STANDARD
BEGIN:DAYLIGHT
TZOFFSETFROM:-0600
TZOFFSETTO:-0500
TZNAME:CDT
DTSTART:20150308T080000
END:DAYLIGHT
BEGIN:STANDARD
TZOFFSETFROM:-0500
TZOFFSETTO:-0600
TZNAME:CST
DTSTART:20151101T070000
END:STANDARD
BEGIN:DAYLIGHT
TZOFFSETFROM:-0600
TZOFFSETTO:-0500
TZNAME:CDT
DTSTART:20160313T080000
END:DAYLIGHT
BEGIN:STANDARD
TZOFFSETFROM:-0500
TZOFFSETTO:-0600
TZNAME:CST
DTSTART:20161106T070000
END:STANDARD
BEGIN:DAYLIGHT
TZOFFSETFROM:-0600
TZOFFSETTO:-0500
TZNAME:CDT
DTSTART:20170312T080000
END:DAYLIGHT
BEGIN:STANDARD
TZOFFSETFROM:-0500
TZOFFSETTO:-0600
TZNAME:CST
DTSTART:20171105T070000
END:STANDARD
END:VTIMEZONE
BEGIN:VEVENT
DTSTART;TZID=America/Chicago:20160612T090000
DTEND;TZID=America/Chicago:20160612T100000
DTSTAMP:20260425T142248
CREATED:20160606T212816Z
LAST-MODIFIED:20160606T212816Z
UID:430-1465722000-1465725600@www.harrisonpark.org
SUMMARY:Block Rep & Officer Meeting
DESCRIPTION:
URL:https://www.harrisonpark.org/event/block-rep-officer-meeting/
LOCATION:213 Old Tippecanoe\, 213 Old Tippecanoe\, IL\, United States
END:VEVENT
BEGIN:VEVENT
DTSTART;TZID=America/Chicago:20160423T030000
DTEND;TZID=America/Chicago:20160423T070000
DTSTAMP:20260425T142248
CREATED:20160203T020152Z
LAST-MODIFIED:20160203T020152Z
UID:415-1461380400-1461394800@www.harrisonpark.org
SUMMARY:Harrison Park SPRING Garage Sale - Saturday morning
DESCRIPTION:
URL:https://www.harrisonpark.org/event/harrison-park-spring-garage-sale-saturday-morning/
LOCATION:Harrison Park Subdivision\, Springfield\, IL\, 62711\, United States
END:VEVENT
BEGIN:VEVENT
DTSTART;TZID=America/Chicago:20160422T110000
DTEND;TZID=America/Chicago:20160422T140000
DTSTAMP:20260425T142248
CREATED:20160203T020041Z
LAST-MODIFIED:20160203T020041Z
UID:413-1461322800-1461333600@www.harrisonpark.org
SUMMARY:Harrison Park SPRING Garage Sale - Friday evening
DESCRIPTION:
URL:https://www.harrisonpark.org/event/harrison-park-spring-garage-sale/
LOCATION:Harrison Park Subdivision\, Springfield\, IL\, 62711\, United States
END:VEVENT
BEGIN:VEVENT
DTSTART;VALUE=DATE:20160414
DTEND;VALUE=DATE:20160416
DTSTAMP:20260425T142248
CREATED:20160314T233903Z
LAST-MODIFIED:20160314T233903Z
UID:421-1460660400-1460746799@www.harrisonpark.org
SUMMARY:Annual Dues Assessment 2016
DESCRIPTION:
URL:https://www.harrisonpark.org/event/annual-dues-assessment-2016/
LOCATION:209 Old Tippecanoe or at Annual Meeting
END:VEVENT
BEGIN:VEVENT
DTSTART;TZID=America/Chicago:20160306T080000
DTEND;TZID=America/Chicago:20160306T090000
DTSTAMP:20260425T142248
CREATED:20160130T223632Z
LAST-MODIFIED:20160209T042123Z
UID:412-1457251200-1457254800@www.harrisonpark.org
SUMMARY:Harrison Park Homeowners Association Annual Meeting
DESCRIPTION:
URL:https://www.harrisonpark.org/event/harrison-park-homeowners-association-annual-meeting/
LOCATION:St. John’s Lutheran Church\, 2477 W Washington\, Springfield \, IL
END:VEVENT
BEGIN:VEVENT
DTSTART;TZID=America/Chicago:20160207T140000
DTEND;TZID=America/Chicago:20160207T150000
DTSTAMP:20260425T142248
CREATED:20150904T233411Z
LAST-MODIFIED:20150904T233411Z
UID:395-1454853600-1454857200@www.harrisonpark.org
SUMMARY:Block Rep Meeting
DESCRIPTION:
URL:https://www.harrisonpark.org/event/block-rep-meeting-3/
LOCATION:Trampe’s\, 213 Old Tippecanoe Dr.\, Springfield\, 62711
END:VEVENT
BEGIN:VEVENT
DTSTART;TZID=America/Chicago:20151115T140000
DTEND;TZID=America/Chicago:20151115T150000
DTSTAMP:20260425T142248
CREATED:20150904T233326Z
LAST-MODIFIED:20150904T233326Z
UID:394-1447596000-1447599600@www.harrisonpark.org
SUMMARY:Block Rep Meeting
DESCRIPTION:
URL:https://www.harrisonpark.org/event/block-rep-meeting-2/
LOCATION:Trampe’s\, 213 Old Tippecanoe Dr.\, Springfield\, 62711
END:VEVENT
BEGIN:VEVENT
DTSTART;TZID=America/Chicago:20151017T080000
DTEND;TZID=America/Chicago:20151017T120000
DTSTAMP:20260425T142248
CREATED:20150820T013341Z
LAST-MODIFIED:20150820T013341Z
UID:387-1445068800-1445083200@www.harrisonpark.org
SUMMARY:Harrison Park FALL Garage Sale - Saturday Morning
DESCRIPTION:
URL:https://www.harrisonpark.org/event/harrison-park-fall-garage-sale-saturday-morning/
LOCATION:IL
END:VEVENT
BEGIN:VEVENT
DTSTART;TZID=America/Chicago:20151016T160000
DTEND;TZID=America/Chicago:20151016T190000
DTSTAMP:20260425T142248
CREATED:20150820T013325Z
LAST-MODIFIED:20150820T013325Z
UID:386-1445011200-1445022000@www.harrisonpark.org
SUMMARY:Harrison Park FALL Garage Sale - Friday evening
DESCRIPTION:
URL:https://www.harrisonpark.org/event/harrison-park-fall-garage-sale-friday-evening/
LOCATION:IL
END:VEVENT
BEGIN:VEVENT
DTSTART;TZID=America/Chicago:20150919T000000
DTEND;TZID=America/Chicago:20150919T160000
DTSTAMP:20260425T142248
CREATED:20150319T001306Z
LAST-MODIFIED:20150915T003918Z
UID:318-1442620800-1442678400@www.harrisonpark.org
SUMMARY:Neighborhood Block Party - POSTPONED
DESCRIPTION:New Date To Be Announced.
URL:https://www.harrisonpark.org/event/neighborhood-block-party/
LOCATION:IL
END:VEVENT
BEGIN:VEVENT
DTSTART;TZID=America/Chicago:20150913T140000
DTEND;TZID=America/Chicago:20150913T150000
DTSTAMP:20260425T142248
CREATED:20150904T233231Z
LAST-MODIFIED:20150904T233231Z
UID:391-1442152800-1442156400@www.harrisonpark.org
SUMMARY:Block Rep Meeting
DESCRIPTION:
URL:https://www.harrisonpark.org/event/block-rep-meeting/
LOCATION:Trampe’s\, 213 Old Tippecanoe Dr.\, Springfield\, 62711
ORGANIZER;CN="Unnamed Organizer":MAILTO:debtrampe@dreammakerspringfield.com
END:VEVENT
BEGIN:VEVENT
DTSTART;TZID=America/Chicago:20150509T080000
DTEND;TZID=America/Chicago:20150509T120000
DTSTAMP:20260425T142248
CREATED:20150319T001121Z
LAST-MODIFIED:20150319T001121Z
UID:317-1431158400-1431172800@www.harrisonpark.org
SUMMARY:Harrison Park Garage Sale - Day 2
DESCRIPTION:
URL:https://www.harrisonpark.org/event/harrison-park-garage-sale-day-2/
LOCATION:IL
END:VEVENT
BEGIN:VEVENT
DTSTART;TZID=America/Chicago:20150508T163000
DTEND;TZID=America/Chicago:20150508T193000
DTSTAMP:20260425T142248
CREATED:20150319T001027Z
LAST-MODIFIED:20150319T001027Z
UID:316-1431102600-1431113400@www.harrisonpark.org
SUMMARY:Harrison Park Garage Sale
DESCRIPTION:
URL:https://www.harrisonpark.org/event/harrison-park-garage-sale/
LOCATION:IL
END:VEVENT
BEGIN:VEVENT
DTSTART;VALUE=DATE:20150415
DTEND;VALUE=DATE:20150416
DTSTAMP:20260425T142248
CREATED:20150319T000621Z
LAST-MODIFIED:20150319T000808Z
UID:310-1429056000-1429142399@www.harrisonpark.org
SUMMARY:Annual Dues Assessment
DESCRIPTION:
URL:https://www.harrisonpark.org/event/annual-dues-assessment/
LOCATION:209 Old Tippecanoe or at Annual Meeting
END:VEVENT
BEGIN:VEVENT
DTSTART;TZID=America/Chicago:20150321T020000
DTEND;TZID=America/Chicago:20150321T160000
DTSTAMP:20260425T142248
CREATED:20150208T100655Z
LAST-MODIFIED:20150208T100655Z
UID:267-1426903200-1426953600@www.harrisonpark.org
SUMMARY:Harrison Park Homeowner's Association 2015 Annual Meeting
DESCRIPTION:
URL:https://www.harrisonpark.org/event/harrison-park-homeowners-association-2015-annual-meeting/
LOCATION:Lutheran High School\, IL\, United States
END:VEVENT
BEGIN:VEVENT
DTSTART;TZID=America/Chicago:20150208T140000
DTEND;TZID=America/Chicago:20150208T160000
DTSTAMP:20260425T142248
CREATED:20150208T100607Z
LAST-MODIFIED:20150208T100607Z
UID:265-1423404000-1423411200@www.harrisonpark.org
SUMMARY:Block Representative Meeting
DESCRIPTION:
URL:https://www.harrisonpark.org/event/block-representative-meeting/
LOCATION:213 Old Tippecanoe\, 213 Old Tippecanoe\, IL\, United States
END:VEVENT
END:VCALENDAR